View In:
ArcGIS JavaScript
ArcGIS Online Map Viewer
ArcGIS Earth
ArcMap
View Footprint In:
ArcGIS Online Map Viewer
Service Description: Olmsted County 2021 Aerial Imagery
Name: OLMSTED_COUNTY_2021_Aerial_Imagery_Tiled_NAD83
Description: Olmsted County 2021 Aerial Imagery
Single Fused Map Cache: true
Tile Info:
- Height: 256
- Width: 256
- DPI: 96
-
Levels of Detail: 10
- Format: MIXED
- Compression Quality: 75.0
- LERC Error: NaN
- Origin: X: -1.194051E8
Y: 1.417677E8
- Spatial Reference: 103761
(103761)
Extent:
XMin: 559943.979949668
YMin: 99791.77662548423
XMax: 723624.229949668
YMax: 234432.02662548423
Spatial Reference: 103761
(103761)
Initial Extent:
XMin: 559943.979949668
YMin: 99791.77662548423
XMax: 723624.229949668
YMax: 234432.02662548423
Spatial Reference: 103761
(103761)
Full Extent:
XMin: 559943.979949668
YMin: 99791.77662548423
XMax: 723624.229949668
YMax: 234432.02662548423
Spatial Reference: 103761
(103761)
Pixel Size X: 0.25
Pixel Size Y: 0.25
Band Count: 3
Pixel Type: U8
RasterFunction Infos: {"rasterFunctionInfos": [{
"name": "None",
"description": "",
"help": ""
}]}
Mensuration Capabilities: Basic
Has Histograms: false
Has Colormap: false
Has Multi Dimensions : false
Rendering Rule:
Min Scale: 125000
Max Scale: 250
Min LOD: 0
Max LOD: 9
Copyright Text: Olmsted County MN GIS
Service Data Type: esriImageServiceDataTypeProcessed
Min Values: N/A
Max Values: N/A
Mean Values: N/A
Standard Deviation Values: N/A
Object ID Field:
Fields:
None
Default Mosaic Method: Center
Allowed Mosaic Methods:
SortField:
SortValue: null
Mosaic Operator: First
Default Compression Quality: 75
Default Resampling Method: Bilinear
Max Record Count: null
Max Image Height: 4100
Max Image Width: 15000
Max Download Image Count: null
Max Mosaic Image Count: null
Allow Raster Function: true
Allow Compute TiePoints: false
Supports Statistics: false
Supports Advanced Queries: false
Use StandardizedQueries: true
Raster Type Infos:
Name: Raster Dataset
Description: Supports all ArcGIS Raster Datasets
Help:
Has Raster Attribute Table: false
Edit Fields Info: null
Ownership Based AccessControl For Rasters: null
Child Resources:
Info
Key Properties
Legend
MultiDimensionalInfo
rasterFunctionInfos
Supported Operations:
Export Image
Identify
Measure
Compute Histograms
Compute Statistics Histograms
Get Samples
Compute Class Statistics
Query Boundary
Compute Pixel Location