{
 "currentVersion": 10.71,
 "serviceDescription": "Olmsted County 2021 Aerial Imagery",
 "name": "OLMSTED_COUNTY_2021_Aerial_Imagery_Tiled_NAD83",
 "description": "Olmsted County 2021 Aerial Imagery",
 "extent": {
  "xmin": 559943.979949668,
  "ymin": 99791.77662548423,
  "xmax": 723624.229949668,
  "ymax": 234432.02662548423,
  "spatialReference": {
   "wkid": 103761,
   "latestWkid": 103761
  }
 },
 "initialExtent": {
  "xmin": 559943.979949668,
  "ymin": 99791.77662548423,
  "xmax": 723624.229949668,
  "ymax": 234432.02662548423,
  "spatialReference": {
   "wkid": 103761,
   "latestWkid": 103761
  }
 },
 "fullExtent": {
  "xmin": 559943.979949668,
  "ymin": 99791.77662548423,
  "xmax": 723624.229949668,
  "ymax": 234432.02662548423,
  "spatialReference": {
   "wkid": 103761,
   "latestWkid": 103761
  }
 },
 "pixelSizeX": 0.25,
 "pixelSizeY": 0.25,
 "bandCount": 3,
 "pixelType": "U8",
 "minPixelSize": 0.21701388888888887,
 "maxPixelSize": 108.50694444444444,
 "copyrightText": "Olmsted County MN GIS",
 "serviceDataType": "esriImageServiceDataTypeProcessed",
 "minValues": [],
 "maxValues": [],
 "meanValues": [],
 "stdvValues": [],
 "objectIdField": "",
 "fields": [],
 "capabilities": "Image,Metadata,Mensuration",
 "defaultMosaicMethod": "Center",
 "allowedMosaicMethods": "",
 "sortField": "",
 "sortValue": null,
 "mosaicOperator": "First",
 "defaultCompressionQuality": 75,
 "defaultResamplingMethod": "Bilinear",
 "maxImageHeight": 4100,
 "maxImageWidth": 15000,
 "singleFusedMapCache": true,
 "tileInfo": {
  "rows": 256,
  "cols": 256,
  "dpi": 96,
  "format": "MIXED",
  "compressionQuality": 75,
  "origin": {
   "x": -119405100,
   "y": 141767700
  },
  "spatialReference": {
   "wkid": 103761,
   "latestWkid": 103761
  },
  "lods": [
   {
    "level": 0,
    "resolution": 108.50694444444444,
    "scale": 125000
   },
   {
    "level": 1,
    "resolution": 55.55555555555555,
    "scale": 64000
   },
   {
    "level": 2,
    "resolution": 27.777777777777775,
    "scale": 32000
   },
   {
    "level": 3,
    "resolution": 13.888888888888888,
    "scale": 16000
   },
   {
    "level": 4,
    "resolution": 6.944444444444444,
    "scale": 8000
   },
   {
    "level": 5,
    "resolution": 3.472222222222222,
    "scale": 4000
   },
   {
    "level": 6,
    "resolution": 1.736111111111111,
    "scale": 2000
   },
   {
    "level": 7,
    "resolution": 0.8680555555555555,
    "scale": 1000
   },
   {
    "level": 8,
    "resolution": 0.43402777777777773,
    "scale": 500
   },
   {
    "level": 9,
    "resolution": 0.21701388888888887,
    "scale": 250
   }
  ]
 },
 "cacheType": "Map",
 "allowRasterFunction": true,
 "rasterFunctionInfos": [
  {
   "name": "None",
   "description": "",
   "help": ""
  }
 ],
 "rasterTypeInfos": [
  {
   "name": "Raster Dataset",
   "description": "Supports all ArcGIS Raster Datasets",
   "help": ""
  }
 ],
 "mensurationCapabilities": "Basic",
 "hasHistograms": false,
 "hasColormap": false,
 "hasRasterAttributeTable": false,
 "minScale": 125000,
 "maxScale": 250,
 "minLOD": 0,
 "maxLOD": 9,
 "exportTilesAllowed": false,
 "hasMultidimensions": false,
 "supportsStatistics": false,
 "supportsAdvancedQueries": false,
 "editFieldsInfo": null,
 "ownershipBasedAccessControlForRasters": null,
 "allowComputeTiePoints": false,
 "useStandardizedQueries": true,
 "advancedQueryCapabilities": {
  "useStandardizedQueries": true,
  "supportsStatistics": false,
  "supportsOrderBy": false,
  "supportsDistinct": false,
  "supportsPagination": false
 },
 "spatialReference": {
  "wkid": 103761,
  "latestWkid": 103761
 }
}
