View In:
ArcGIS JavaScript
ArcGIS Online Map Viewer
ArcGIS Earth
ArcMap
View Footprint In:
ArcGIS Online Map Viewer
Service Description: Olmsted County 2023 Aerial Imagery
Name: OLMSTED_COUNTY_2023_Aerial_Imagery_Tiled_NAD83
Description: Olmsted County 2023 Aerial Imagery
Single Fused Map Cache: true
Tile Info:
- Height: 256
- Width: 256
- DPI: 96
-
Levels of Detail: 11
- Format: MIXED
- Compression Quality: 75.0
- LERC Error: NaN
- Origin: X: -1.194051E8
Y: 1.417677E8
- Spatial Reference: 103761
(103761)
LatestVCSWkid(0)
Storage Info:
- Storage Format: esriMapCacheStorageModeCompactV2
- Packet Size: 128
Extent:
XMin: 559943.9625753313
YMin: 99792.21391127154
XMax: 723623.7991822612
YMax: 234432.0499374015
Spatial Reference: 103761
(103761)
LatestVCSWkid(0)
Initial Extent:
XMin: 559943.9625753313
YMin: 99792.21391127154
XMax: 723623.7991822612
YMax: 234432.0499374015
Spatial Reference: 103761
(103761)
LatestVCSWkid(0)
Full Extent:
XMin: 559943.9625753313
YMin: 99792.21391127154
XMax: 723623.7991822612
YMax: 234432.0499374015
Spatial Reference: 103761
(103761)
LatestVCSWkid(0)
Pixel Size X: 0.16666666999999988
Pixel Size Y: 0.16666666999999993
Band Count: 3
Pixel Type: U8
RasterFunction Infos: {"rasterFunctionInfos": [{
"name": "None",
"description": "",
"help": ""
}]}
Mensuration Capabilities: Basic
Has Histograms: false
Has Colormap: false
Has Multi Dimensions : false
Rendering Rule:
Min Scale: 0
Max Scale: 0
Min LOD: 0
Max LOD: 9
Copyright Text: na
Service Data Type: esriImageServiceDataTypeProcessed
Min Values: N/A
Max Values: N/A
Mean Values: N/A
Standard Deviation Values: N/A
Object ID Field:
Fields:
None
Default Mosaic Method: Center
Allowed Mosaic Methods:
SortField:
SortValue: null
Mosaic Operator: First
Default Compression Quality: 75
Default Resampling Method: Bilinear
Max Record Count: null
Max Image Height: 4100
Max Image Width: 15000
Max Download Image Count: null
Max Mosaic Image Count: null
Allow Raster Function: false
Allow Copy: true
Allow Analysis: true
Allow Compute TiePoints: false
Supports Statistics: false
Supports Advanced Queries: false
Use StandardizedQueries: true
Raster Type Infos:
Name: Raster Dataset
Description: Supports all ArcGIS Raster Datasets
Help:
Has Raster Attribute Table: false
Edit Fields Info: null
Ownership Based AccessControl For Rasters: null
Child Resources:
Info
Statistics
Key Properties
Legend
Raster Function Infos
Supported Operations:
Export Image
Identify
Compute Histograms
Compute Statistics Histograms
Get Samples
Compute Class Statistics
Query Boundary
Compute Pixel Location
Compute Angles
Validate
Project