{
 "currentVersion": 10.91,
 "serviceDescription": "Olmsted_County_MN_2023_Aerial_Imagery_Dynamic_NAD83",
 "name": "Olmsted_County_MN_2023_Aerial_Imagery_Dynamic_NAD83",
 "description": "",
 "extent": {
  "xmin": 559943.9625753313,
  "ymin": 99792.21391127154,
  "xmax": 723623.7991822612,
  "ymax": 234432.0499374015,
  "spatialReference": {
   "wkid": 103761,
   "latestWkid": 103761
  }
 },
 "initialExtent": {
  "xmin": 559943.9625753313,
  "ymin": 99792.21391127154,
  "xmax": 723623.7991822612,
  "ymax": 234432.0499374015,
  "spatialReference": {
   "wkid": 103761,
   "latestWkid": 103761
  }
 },
 "fullExtent": {
  "xmin": 559943.9625753313,
  "ymin": 99792.21391127154,
  "xmax": 723623.7991822612,
  "ymax": 234432.0499374015,
  "spatialReference": {
   "wkid": 103761,
   "latestWkid": 103761
  }
 },
 "hasMultidimensions": false,
 "pixelSizeX": 0.16666666999999988,
 "pixelSizeY": 0.16666666999999993,
 "datasetFormat": "SDR",
 "uncompressedSize": 2380085151843,
 "blockWidth": 128,
 "blockHeight": 128,
 "compressionType": "LZ77",
 "bandNames": [
  "Band_1",
  "Band_2",
  "Band_3"
 ],
 "allowCopy": true,
 "allowAnalysis": true,
 "bandCount": 3,
 "pixelType": "U8",
 "minPixelSize": 0,
 "maxPixelSize": 0,
 "copyrightText": "",
 "serviceDataType": "esriImageServiceDataTypeProcessed",
 "serviceSourceType": "esriImageServiceSourceTypeDataset",
 "minValues": [],
 "maxValues": [],
 "meanValues": [],
 "stdvValues": [],
 "objectIdField": "",
 "fields": [],
 "capabilities": "Image,Metadata",
 "defaultMosaicMethod": "Center",
 "allowedMosaicMethods": "",
 "sortField": "",
 "sortValue": null,
 "sortAscending": true,
 "mosaicOperator": "First",
 "defaultCompressionQuality": 75,
 "defaultResamplingMethod": "Bilinear",
 "maxImageHeight": 4100,
 "maxImageWidth": 15000,
 "allowRasterFunction": true,
 "rasterFunctionInfos": [
  {
   "name": "None",
   "description": "",
   "help": ""
  }
 ],
 "rasterTypeInfos": [
  {
   "name": "Raster Dataset",
   "description": "Supports all ArcGIS Raster Datasets",
   "help": ""
  }
 ],
 "mensurationCapabilities": "Basic",
 "hasHistograms": false,
 "hasColormap": false,
 "hasRasterAttributeTable": false,
 "minScale": 0,
 "maxScale": 0,
 "exportTilesAllowed": false,
 "supportsStatistics": false,
 "supportsAdvancedQueries": false,
 "editFieldsInfo": null,
 "ownershipBasedAccessControlForRasters": null,
 "allowComputeTiePoints": false,
 "useStandardizedQueries": true,
 "advancedQueryCapabilities": {
  "useStandardizedQueries": true,
  "supportsStatistics": false,
  "supportsOrderBy": false,
  "supportsDistinct": false,
  "supportsPagination": false
 },
 "spatialReference": {
  "wkid": 103761,
  "latestWkid": 103761
 }
}
